View In:
ArcGIS JavaScript
ArcGIS Online Map Viewer
ArcGIS Earth
ArcMap
ArcGIS Pro
View Footprint In:
ArcGIS Online Map Viewer
Service Description: Basemap of tax parcels for the Town of Dedham, MA
Map Name: Basemap Parcel
Legend
All Layers and Tables
Dynamic Legend
Dynamic All Layers
Layers:
Description: Assessor basemap for Dedham, Massachusetts
Copyright Text: Dedham, MA, MassGIS
Spatial Reference:
102100
(3857)
Single Fused Map Cache: true
Tile Info:
- Height: 256
- Width: 256
- DPI: 96
-
Levels of Detail: 24
-
Level ID: 1
[ Start Tile, End Tile ]
- Resolution: 78271.5169639999
- Scale: 2.95828763795777E8
-
Level ID: 2
[ Start Tile, End Tile ]
- Resolution: 39135.7584820001
- Scale: 1.47914381897889E8
-
Level ID: 3
[ Start Tile, End Tile ]
- Resolution: 19567.8792409999
- Scale: 7.3957190948944E7
-
Level ID: 4
[ Start Tile, End Tile ]
- Resolution: 9783.93962049996
- Scale: 3.6978595474472E7
-
Level ID: 5
[ Start Tile, End Tile ]
- Resolution: 4891.96981024998
- Scale: 1.8489297737236E7
- Format: Mixed
- Compression Quality: 75.0
- Origin: X: -2.0037508342787E7
Y: 2.0037508342787E7
- Spatial Reference: 102100
(3857)
Initial Extent:
XMin: -7925234.378418815
YMin: 5196377.04646896
XMax: -7924609.311756101
YMax: 5196846.941427616
Spatial Reference: 102100
Full Extent:
XMin: -7936528.327791132
YMin: 5189884.449570313
XMax: -7911189.452914632
YMax: 5205573.149625824
Spatial Reference: 102100
Units: esriMeters
Supported Image Format Types: PNG32,PNG24,PNG,JPG,DIB,TIFF,EMF,PS,PDF,GIF,SVG,SVGZ,BMP
Document Info:
Title: Parcel Basemap
Author:
Comments: Assessor basemap for Dedham, Massachusetts
Subject: Assessor basemap for Dedham, Massachusetts
Category:
Keywords: Basemap,Parcels
AntialiasingMode: None
TextAntialiasingMode: Force
Supports Dynamic Layers: true
MaxRecordCount: 1000
MaxImageHeight: 4096
MaxImageWidth: 4096
Supported Query Formats: JSON, geoJSON, PBF
Supports Query Data Elements: true
Min Scale: 144447.638572
Max Scale: 282.124294
Supports Datum Transformation: true
Child Resources:
Info
Dynamic Layer
Supported Operations:
Export Map
Identify
QueryDomains
QueryLegends
Find
EstimateExportTilesSize
ExportTiles
Return Updates