View In:
ArcGIS JavaScript
ArcGIS Online Map Viewer
ArcGIS Earth
ArcMap
ArcGIS Pro
View Footprint In:
ArcGIS Online Map Viewer
Service Description: Provides a consumer representation of parcel information that can be used with infrastructure and parcel information. The layers in the map provide context for multiple workflows, such as editing data or producing web maps. Includes structures, roads, major facilities and landmarks, water features, parcels, addresses and boundaries. This basemap uses design elements found in the General Purpose basemap but adds additional content at larger scales.
Map Name: Layers
Legend
All Layers and Tables
Dynamic Legend
Dynamic All Layers
Layers:
Description: Provides a consumer representation of parcel information that can be used with infrastructure and parcel information. The layers in the map provide context for multiple workflows, such as editing data or producing web maps. Includes structures, roads, major facilities and landmarks, water features, parcels, addresses and boundaries. This basemap uses design elements found in the General Purpose basemap but adds additional content at larger scales.
Copyright Text: Esri., Inc., Town of Dedham, Massachusetts
Spatial Reference:
102100
(3857)
Single Fused Map Cache: true
Tile Info:
- Height: 256
- Width: 256
- DPI: 96
-
Levels of Detail: 24
-
Level ID: 0
[ Start Tile, End Tile ]
- Resolution: 156543.03392800014
- Scale: 5.91657527591555E8
-
Level ID: 1
[ Start Tile, End Tile ]
- Resolution: 78271.51696399994
- Scale: 2.95828763795777E8
-
Level ID: 2
[ Start Tile, End Tile ]
- Resolution: 39135.75848200009
- Scale: 1.47914381897889E8
-
Level ID: 3
[ Start Tile, End Tile ]
- Resolution: 19567.87924099992
- Scale: 7.3957190948944E7
-
Level ID: 4
[ Start Tile, End Tile ]
- Resolution: 9783.93962049996
- Scale: 3.6978595474472E7
-
Level ID: 5
[ Start Tile, End Tile ]
- Resolution: 4891.96981024998
- Scale: 1.8489297737236E7
- Format: PNG
- Compression Quality: 0.0
- Origin: X: -2.0037508342787E7
Y: 2.0037508342787E7
- Spatial Reference: 102100
(3857)
Initial Extent:
XMin: -7923581.157776306
YMin: 5196107.907262958
XMax: -7920459.473505522
YMax: 5198902.9410662325
Spatial Reference: 102100
Full Extent:
XMin: -7948700.855068331
YMin: 5182191.673154582
XMax: -7899016.786683033
YMax: 5213263.325152465
Spatial Reference: 102100
Units: esriMeters
Supported Image Format Types: PNG32,PNG24,PNG,JPG,DIB,TIFF,EMF,PS,PDF,GIF,SVG,SVGZ,BMP
Document Info:
Title: Layers
Author:
Comments: Provides a consumer representation of parcel information that can be used with infrastructure and parcel information. The layers in the map provide context for multiple workflows, such as editing data or producing web maps. Includes structures, roads, major facilities and landmarks, water features, parcels, addresses and boundaries. This basemap uses design elements found in the General Purpose basemap but adds additional content at larger scales.
Subject: The Parcel Public Access basemap provides a consumer representation of parcel information that can be used with infrastructure and parcel data.
Category:
Keywords: Parcels,Structures,Site Addresses,Basemap
AntialiasingMode: None
TextAntialiasingMode: Force
Supports Dynamic Layers: true
MaxRecordCount: 1000
MaxImageHeight: 4096
MaxImageWidth: 4096
Supported Query Formats: JSON, geoJSON, PBF
Supports Query Data Elements: true
Min Scale: 288895.277144
Max Scale: 564.248588
Supports Datum Transformation: true
Child Resources:
Info
Dynamic Layer
Supported Operations:
Export Map
Identify
QueryDomains
QueryLegends
Find
EstimateExportTilesSize
ExportTiles
Return Updates